BEGIN:VCALENDAR
VERSION:2.0
PRODID:-//New Hope PCA - ECPv6.15.20//NONSGML v1.0//EN
CALSCALE:GREGORIAN
METHOD:PUBLISH
X-ORIGINAL-URL:https://newhopepcachinagrove.com
X-WR-CALDESC:Events for New Hope PCA
REFRESH-INTERVAL;VALUE=DURATION:PT1H
X-Robots-Tag:noindex
X-PUBLISHED-TTL:PT1H
BEGIN:VTIMEZONE
TZID:America/Halifax
BEGIN:DAYLIGHT
TZOFFSETFROM:-0400
TZOFFSETTO:-0300
TZNAME:ADT
DTSTART:20250309T060000
END:DAYLIGHT
BEGIN:STANDARD
TZOFFSETFROM:-0300
TZOFFSETTO:-0400
TZNAME:AST
DTSTART:20251102T050000
END:STANDARD
BEGIN:DAYLIGHT
TZOFFSETFROM:-0400
TZOFFSETTO:-0300
TZNAME:ADT
DTSTART:20260308T060000
END:DAYLIGHT
BEGIN:STANDARD
TZOFFSETFROM:-0300
TZOFFSETTO:-0400
TZNAME:AST
DTSTART:20261101T050000
END:STANDARD
BEGIN:DAYLIGHT
TZOFFSETFROM:-0400
TZOFFSETTO:-0300
TZNAME:ADT
DTSTART:20270314T060000
END:DAYLIGHT
BEGIN:STANDARD
TZOFFSETFROM:-0300
TZOFFSETTO:-0400
TZNAME:AST
DTSTART:20271107T050000
END:STANDARD
END:VTIMEZONE
BEGIN:VEVENT
DTSTART;TZID=America/Halifax:20260402T190000
DTEND;TZID=America/Halifax:20260402T210000
DTSTAMP:20260421T213651
CREATED:20260330T014123Z
LAST-MODIFIED:20260330T014123Z
UID:458-1775156400-1775163600@newhopepcachinagrove.com
SUMMARY:Maundy Thursday Service
DESCRIPTION:Please join us for our Service around the table…..
URL:https://newhopepcachinagrove.com/event/maundy-thursday-service/
END:VEVENT
BEGIN:VEVENT
DTSTART;TZID=America/Halifax:20260405T100000
DTEND;TZID=America/Halifax:20260405T113000
DTSTAMP:20260421T213651
CREATED:20260330T014308Z
LAST-MODIFIED:20260330T014308Z
UID:460-1775383200-1775388600@newhopepcachinagrove.com
SUMMARY:Easter Service
DESCRIPTION:Join us for our Celebration of Jesus’ Resurrection…
URL:https://newhopepcachinagrove.com/event/easter-service/
END:VEVENT
END:VCALENDAR